BEGIN:VCALENDAR
VERSION:2.0
PRODID:-//JIBAYA - ECPv6.15.16//NONSGML v1.0//EN
CALSCALE:GREGORIAN
METHOD:PUBLISH
X-ORIGINAL-URL:https://jibaya.tn
X-WR-CALDESC:Évènements pour JIBAYA
REFRESH-INTERVAL;VALUE=DURATION:PT1H
X-Robots-Tag:noindex
X-PUBLISHED-TTL:PT1H
BEGIN:VTIMEZONE
TZID:UTC
BEGIN:STANDARD
TZOFFSETFROM:+0000
TZOFFSETTO:+0000
TZNAME:UTC
DTSTART:20230101T000000
END:STANDARD
END:VTIMEZONE
BEGIN:VEVENT
DTSTART;VALUE=DATE:20240916
DTEND;VALUE=DATE:20240917
DTSTAMP:20260423T032456
CREATED:20240109T153120Z
LAST-MODIFIED:20240109T155415Z
UID:11717-1726444800-1726531199@jibaya.tn
SUMMARY:dernier délai de dépôt de la déclaration mensuelle par les personnes physiques
DESCRIPTION:
URL:https://jibaya.tn/event/dernier-delai-de-depot-de-la-declaration-mensuelle-par-les-personnes-physiques-9/
END:VEVENT
BEGIN:VEVENT
DTSTART;VALUE=DATE:20240920
DTEND;VALUE=DATE:20240921
DTSTAMP:20260423T032456
CREATED:20240109T153146Z
LAST-MODIFIED:20240109T153146Z
UID:11719-1726790400-1726876799@jibaya.tn
SUMMARY:dernier délai de dépôt de la déclaration mensuelle par les personnes morales adhérentes au système de télé déclaration et du télépaiement
DESCRIPTION:
URL:https://jibaya.tn/event/dernier-delai-de-depot-de-la-declaration-mensuelle-par-les-personnes-morales-adherentes-au-systeme-de-tele-declaration-et-du-telepaiement-9/
END:VEVENT
BEGIN:VEVENT
DTSTART;VALUE=DATE:20240925
DTEND;VALUE=DATE:20240926
DTSTAMP:20260423T032456
CREATED:20240109T153222Z
LAST-MODIFIED:20240109T153222Z
UID:11721-1727222400-1727308799@jibaya.tn
SUMMARY:dernier délai de dépôt du deuxième acompte provisionnel pour les personnes physiques autres que celles exerçant exclusivement une activité artisanale
DESCRIPTION:
URL:https://jibaya.tn/event/dernier-delai-de-depot-du-deuxieme-acompte-provisionnel-pour-les-personnes-physiques-autres-que-celles-exercant-exclusivement-une-activite-artisanale/
END:VEVENT
BEGIN:VEVENT
DTSTART;VALUE=DATE:20240930
DTEND;VALUE=DATE:20241001
DTSTAMP:20260423T032456
CREATED:20240109T153242Z
LAST-MODIFIED:20240109T155424Z
UID:11723-1727654400-1727740799@jibaya.tn
SUMMARY:dernier délai de dépôt de la déclaration mensuelle par les personnes morales autres que celles adhérentes au système de télé déclaration et du télépaiement
DESCRIPTION:
URL:https://jibaya.tn/event/dernier-delai-de-depot-de-la-declaration-mensuelle-par-les-personnes-morales-autres-que-celles-adherentes-au-systeme-de-tele-declaration-et-du-telepaiement-8/
END:VEVENT
BEGIN:VEVENT
DTSTART;VALUE=DATE:20240930
DTEND;VALUE=DATE:20241001
DTSTAMP:20260423T032456
CREATED:20240109T153305Z
LAST-MODIFIED:20240109T163357Z
UID:11725-1727654400-1727740799@jibaya.tn
SUMMARY:dernier délai de dépôt du deuxième acompte provisionnel pour les personnes morales
DESCRIPTION:
URL:https://jibaya.tn/event/dernier-delai-de-depot-du-deuxieme-acompte-provisionnel-pour-les-personnes-morales/
END:VEVENT
END:VCALENDAR