BEGIN:VCALENDAR
VERSION:2.0
PRODID:-//JIBAYA - ECPv6.15.16//NONSGML v1.0//EN
CALSCALE:GREGORIAN
METHOD:PUBLISH
X-WR-CALNAME:JIBAYA
X-ORIGINAL-URL:https://jibaya.tn
X-WR-CALDESC:Évènements pour JIBAYA
REFRESH-INTERVAL;VALUE=DURATION:PT1H
X-Robots-Tag:noindex
X-PUBLISHED-TTL:PT1H
BEGIN:VTIMEZONE
TZID:Europe/Paris
BEGIN:DAYLIGHT
TZOFFSETFROM:+0100
TZOFFSETTO:+0200
TZNAME:CEST
DTSTART:20240331T010000
END:DAYLIGHT
BEGIN:STANDARD
TZOFFSETFROM:+0200
TZOFFSETTO:+0100
TZNAME:CET
DTSTART:20241027T010000
END:STANDARD
BEGIN:DAYLIGHT
TZOFFSETFROM:+0100
TZOFFSETTO:+0200
TZNAME:CEST
DTSTART:20250330T010000
END:DAYLIGHT
BEGIN:STANDARD
TZOFFSETFROM:+0200
TZOFFSETTO:+0100
TZNAME:CET
DTSTART:20251026T010000
END:STANDARD
BEGIN:DAYLIGHT
TZOFFSETFROM:+0100
TZOFFSETTO:+0200
TZNAME:CEST
DTSTART:20260329T010000
END:DAYLIGHT
BEGIN:STANDARD
TZOFFSETFROM:+0200
TZOFFSETTO:+0100
TZNAME:CET
DTSTART:20261025T010000
END:STANDARD
END:VTIMEZONE
BEGIN:VEVENT
DTSTART;VALUE=DATE:20250205
DTEND;VALUE=DATE:20250206
DTSTAMP:20260422T172917
CREATED:20241226T082205Z
LAST-MODIFIED:20241226T082205Z
UID:18275-1738713600-1738799999@jibaya.tn
SUMMARY:dernier délai du paiement des vignettes pour les personnes morales à l’exceptions des voitures de location ou acquises dans le cadre de contrats de Ijara ou de leasing
DESCRIPTION:
URL:https://jibaya.tn/event/dernier-delai-du-paiement-des-vignettes-pour-les-personnes-morales-a-lexceptions-des-voitures-de-location-ou-acquises-dans-le-cadre-de-contrats-de-ijara-ou-de-leasing-2/
END:VEVENT
BEGIN:VEVENT
DTSTART;VALUE=DATE:20250217
DTEND;VALUE=DATE:20250218
DTSTAMP:20260422T172917
CREATED:20241226T082244Z
LAST-MODIFIED:20241226T082244Z
UID:18277-1739750400-1739836799@jibaya.tn
SUMMARY:dernier délai de dépôt de la déclaration mensuelle par les personnes physiques
DESCRIPTION:
URL:https://jibaya.tn/event/dernier-delai-de-depot-de-la-declaration-mensuelle-par-les-personnes-physiques-13/
END:VEVENT
BEGIN:VEVENT
DTSTART;VALUE=DATE:20250220
DTEND;VALUE=DATE:20250221
DTSTAMP:20260422T172917
CREATED:20241226T082348Z
LAST-MODIFIED:20241226T082348Z
UID:18279-1740009600-1740095999@jibaya.tn
SUMMARY:dernier délai de dépôt de la déclaration mensuelle par les personnes morales adhérentes au système de télé déclaration et du télépaiement
DESCRIPTION:
URL:https://jibaya.tn/event/dernier-delai-de-depot-de-la-declaration-mensuelle-par-les-personnes-morales-adherentes-au-systeme-de-tele-declaration-et-du-telepaiement-14/
END:VEVENT
BEGIN:VEVENT
DTSTART;VALUE=DATE:20250225
DTEND;VALUE=DATE:20250226
DTSTAMP:20260422T172917
CREATED:20241226T082437Z
LAST-MODIFIED:20241226T082437Z
UID:18281-1740441600-1740527999@jibaya.tn
SUMMARY:dernier délai de dépôt de la déclaration annuelle de l’impôt sur le revenu par les personnes physiques réalisant des revenus de capitaux mobiliers\, des revenus des valeurs mobilières\, des revenus fonciers\, ou des revenus de sources étrangères autres que les salaires\, pension et rentes viagères.
DESCRIPTION:
URL:https://jibaya.tn/event/dernier-delai-de-depot-de-la-declaration-annuelle-de-limpot-sur-le-revenu-par-les-personnes-physiques-realisant-des-revenus-de-capitaux-mobiliers-des-revenus-des-valeurs-mobilieres-des-reve-2/
END:VEVENT
BEGIN:VEVENT
DTSTART;VALUE=DATE:20250225
DTEND;VALUE=DATE:20250226
DTSTAMP:20260422T172917
CREATED:20241226T082537Z
LAST-MODIFIED:20241226T082537Z
UID:18283-1740441600-1740527999@jibaya.tn
SUMMARY:dernier délai de dépôt de la déclaration de la plus-value de cession des actions\, des parts sociales et des parts des fonds non rattachées à un bilan.
DESCRIPTION:
URL:https://jibaya.tn/event/dernier-delai-de-depot-de-la-declaration-de-la-plus-value-de-cession-des-actions-des-parts-sociales-et-des-parts-des-fonds-non-rattachees-a-un-bilan-2/
END:VEVENT
BEGIN:VEVENT
DTSTART;VALUE=DATE:20250228
DTEND;VALUE=DATE:20250301
DTSTAMP:20260422T172917
CREATED:20241226T082636Z
LAST-MODIFIED:20241226T082636Z
UID:18286-1740700800-1740787199@jibaya.tn
SUMMARY:dernier délai de dépôt de la déclaration mensuelle par les personnes morales autres que celles adhérentes au système de télé déclaration et du télépaiement
DESCRIPTION:
URL:https://jibaya.tn/event/dernier-delai-de-depot-de-la-declaration-mensuelle-par-les-personnes-morales-autres-que-celles-adherentes-au-systeme-de-tele-declaration-et-du-telepaiement-12/
END:VEVENT
END:VCALENDAR