BEGIN:VCALENDAR
VERSION:2.0
PRODID:-//JIBAYA - ECPv6.15.16//NONSGML v1.0//EN
CALSCALE:GREGORIAN
METHOD:PUBLISH
X-WR-CALNAME:JIBAYA
X-ORIGINAL-URL:https://jibaya.tn
X-WR-CALDESC:Évènements pour JIBAYA
REFRESH-INTERVAL;VALUE=DURATION:PT1H
X-Robots-Tag:noindex
X-PUBLISHED-TTL:PT1H
BEGIN:VTIMEZONE
TZID:Europe/Paris
BEGIN:DAYLIGHT
TZOFFSETFROM:+0100
TZOFFSETTO:+0200
TZNAME:CEST
DTSTART:20240331T010000
END:DAYLIGHT
BEGIN:STANDARD
TZOFFSETFROM:+0200
TZOFFSETTO:+0100
TZNAME:CET
DTSTART:20241027T010000
END:STANDARD
BEGIN:DAYLIGHT
TZOFFSETFROM:+0100
TZOFFSETTO:+0200
TZNAME:CEST
DTSTART:20250330T010000
END:DAYLIGHT
BEGIN:STANDARD
TZOFFSETFROM:+0200
TZOFFSETTO:+0100
TZNAME:CET
DTSTART:20251026T010000
END:STANDARD
BEGIN:DAYLIGHT
TZOFFSETFROM:+0100
TZOFFSETTO:+0200
TZNAME:CEST
DTSTART:20260329T010000
END:DAYLIGHT
BEGIN:STANDARD
TZOFFSETFROM:+0200
TZOFFSETTO:+0100
TZNAME:CET
DTSTART:20261025T010000
END:STANDARD
END:VTIMEZONE
BEGIN:VEVENT
DTSTART;VALUE=DATE:20250305
DTEND;VALUE=DATE:20250306
DTSTAMP:20260422T111052
CREATED:20241226T082954Z
LAST-MODIFIED:20241226T082954Z
UID:18288-1741132800-1741219199@jibaya.tn
SUMMARY:dernier délai du paiement des vignettes pour les personnes physiques (nombre paires)
DESCRIPTION:
URL:https://jibaya.tn/event/dernier-delai-du-paiement-des-vignettes-pour-les-personnes-physiques-nombre-paires-2/
END:VEVENT
BEGIN:VEVENT
DTSTART;VALUE=DATE:20250317
DTEND;VALUE=DATE:20250318
DTSTAMP:20260422T111052
CREATED:20241226T083034Z
LAST-MODIFIED:20241226T083034Z
UID:18290-1742169600-1742255999@jibaya.tn
SUMMARY:dernier délai de dépôt de la déclaration mensuelle par les personnes physiques
DESCRIPTION:
URL:https://jibaya.tn/event/dernier-delai-de-depot-de-la-declaration-mensuelle-par-les-personnes-physiques-14/
END:VEVENT
BEGIN:VEVENT
DTSTART;VALUE=DATE:20250321
DTEND;VALUE=DATE:20250322
DTSTAMP:20260422T111052
CREATED:20241226T083128Z
LAST-MODIFIED:20241226T083128Z
UID:18292-1742515200-1742601599@jibaya.tn
SUMMARY:dernier délai de dépôt de la déclaration mensuelle par les personnes morales adhérentes au système de télé déclaration et du télépaiement
DESCRIPTION:
URL:https://jibaya.tn/event/dernier-delai-de-depot-de-la-declaration-mensuelle-par-les-personnes-morales-adherentes-au-systeme-de-tele-declaration-et-du-telepaiement-15/
END:VEVENT
BEGIN:VEVENT
DTSTART;VALUE=DATE:20250325
DTEND;VALUE=DATE:20250326
DTSTAMP:20260422T111052
CREATED:20241226T083215Z
LAST-MODIFIED:20241226T083215Z
UID:18294-1742860800-1742947199@jibaya.tn
SUMMARY:dernier délai de dépôt de la déclaration annuelle de l’impôt sur les sociétés et de l’avance due par les sociétés de personnes et assimilées (les sociétés qui clôturent leurs bilans le 31 décembre y compris celles totalement exportatrices)
DESCRIPTION:
URL:https://jibaya.tn/event/dernier-delai-de-depot-de-la-declaration-annuelle-de-limpot-sur-les-societes-et-de-lavance-due-par-les-societes-de-personnes-et-assimilees-les-societes-qui-cloturent-leurs-bilans-le-2/
END:VEVENT
BEGIN:VEVENT
DTSTART;VALUE=DATE:20250328
DTEND;VALUE=DATE:20250329
DTSTAMP:20260422T111052
CREATED:20241226T083254Z
LAST-MODIFIED:20241226T083254Z
UID:18296-1743120000-1743206399@jibaya.tn
SUMMARY:dernier délai de dépôt de la déclaration mensuelle par les personnes morales autres que celles adhérentes au système de télé déclaration et du télépaiement
DESCRIPTION:
URL:https://jibaya.tn/event/dernier-delai-de-depot-de-la-declaration-mensuelle-par-les-personnes-morales-autres-que-celles-adherentes-au-systeme-de-tele-declaration-et-du-telepaiement-13/
END:VEVENT
END:VCALENDAR