BEGIN:VCALENDAR
VERSION:2.0
PRODID:-//JIBAYA - ECPv6.15.16//NONSGML v1.0//EN
CALSCALE:GREGORIAN
METHOD:PUBLISH
X-ORIGINAL-URL:https://jibaya.tn
X-WR-CALDESC:Évènements pour JIBAYA
REFRESH-INTERVAL;VALUE=DURATION:PT1H
X-Robots-Tag:noindex
X-PUBLISHED-TTL:PT1H
BEGIN:VTIMEZONE
TZID:Europe/Paris
BEGIN:DAYLIGHT
TZOFFSETFROM:+0100
TZOFFSETTO:+0200
TZNAME:CEST
DTSTART:20240331T010000
END:DAYLIGHT
BEGIN:STANDARD
TZOFFSETFROM:+0200
TZOFFSETTO:+0100
TZNAME:CET
DTSTART:20241027T010000
END:STANDARD
BEGIN:DAYLIGHT
TZOFFSETFROM:+0100
TZOFFSETTO:+0200
TZNAME:CEST
DTSTART:20250330T010000
END:DAYLIGHT
BEGIN:STANDARD
TZOFFSETFROM:+0200
TZOFFSETTO:+0100
TZNAME:CET
DTSTART:20251026T010000
END:STANDARD
BEGIN:DAYLIGHT
TZOFFSETFROM:+0100
TZOFFSETTO:+0200
TZNAME:CEST
DTSTART:20260329T010000
END:DAYLIGHT
BEGIN:STANDARD
TZOFFSETFROM:+0200
TZOFFSETTO:+0100
TZNAME:CET
DTSTART:20261025T010000
END:STANDARD
END:VTIMEZONE
BEGIN:VEVENT
DTSTART;VALUE=DATE:20250505
DTEND;VALUE=DATE:20250506
DTSTAMP:20260420T063730
CREATED:20241226T084123Z
LAST-MODIFIED:20241226T084123Z
UID:18313-1746403200-1746489599@jibaya.tn
SUMMARY:dernier délai du paiement des vignettes pour les voitures de location ou acquises dans le cadre de contrats de Ijara ou de leasing
DESCRIPTION:
URL:https://jibaya.tn/event/dernier-delai-du-paiement-des-vignettes-pour-les-voitures-de-location-ou-acquises-dans-le-cadre-de-contrats-de-ijara-ou-de-leasing-2/
END:VEVENT
BEGIN:VEVENT
DTSTART;VALUE=DATE:20250515
DTEND;VALUE=DATE:20250516
DTSTAMP:20260420T063730
CREATED:20241226T084206Z
LAST-MODIFIED:20241226T084206Z
UID:18315-1747267200-1747353599@jibaya.tn
SUMMARY:dernier délai de dépôt de la déclaration mensuelle par les personnes physiques
DESCRIPTION:
URL:https://jibaya.tn/event/dernier-delai-de-depot-de-la-declaration-mensuelle-par-les-personnes-physiques-16/
END:VEVENT
BEGIN:VEVENT
DTSTART;VALUE=DATE:20250520
DTEND;VALUE=DATE:20250521
DTSTAMP:20260420T063730
CREATED:20241226T084257Z
LAST-MODIFIED:20241226T084257Z
UID:18317-1747699200-1747785599@jibaya.tn
SUMMARY:dernier délai de dépôt de la déclaration mensuelle par les personnes morales adhérentes au système de télé déclaration et du télépaiement
DESCRIPTION:
URL:https://jibaya.tn/event/dernier-delai-de-depot-de-la-declaration-mensuelle-par-les-personnes-morales-adherentes-au-systeme-de-tele-declaration-et-du-telepaiement-17/
END:VEVENT
BEGIN:VEVENT
DTSTART;VALUE=DATE:20250526
DTEND;VALUE=DATE:20250527
DTSTAMP:20260420T063730
CREATED:20241226T084324Z
LAST-MODIFIED:20241226T084324Z
UID:18319-1748217600-1748303999@jibaya.tn
SUMMARY:dernier délai de dépôt de la déclaration annuelle de l’impôt sur le revenu pour les industriels\, les prestataires de service et les professionnels non commerciaux y compris ceux soumis au régime forfaitaire
DESCRIPTION:
URL:https://jibaya.tn/event/dernier-delai-de-depot-de-la-declaration-annuelle-de-limpot-sur-le-revenu-pour-les-industriels-les-prestataires-de-service-et-les-professionnels-non-commerciaux-y-compris-ceux-soumis-au-regi-2/
END:VEVENT
BEGIN:VEVENT
DTSTART;VALUE=DATE:20250528
DTEND;VALUE=DATE:20250529
DTSTAMP:20260420T063730
CREATED:20241226T084355Z
LAST-MODIFIED:20241226T084355Z
UID:18321-1748390400-1748476799@jibaya.tn
SUMMARY:dernier délai de dépôt de la déclaration mensuelle par les personnes morales autres que celles adhérentes au système de télé déclaration et du télépaiement
DESCRIPTION:
URL:https://jibaya.tn/event/dernier-delai-de-depot-de-la-declaration-mensuelle-par-les-personnes-morales-autres-que-celles-adherentes-au-systeme-de-tele-declaration-et-du-telepaiement-15/
END:VEVENT
END:VCALENDAR