BEGIN:VCALENDAR
VERSION:2.0
PRODID:-//JIBAYA - ECPv6.15.16//NONSGML v1.0//EN
CALSCALE:GREGORIAN
METHOD:PUBLISH
X-ORIGINAL-URL:https://jibaya.tn
X-WR-CALDESC:Évènements pour JIBAYA
REFRESH-INTERVAL;VALUE=DURATION:PT1H
X-Robots-Tag:noindex
X-PUBLISHED-TTL:PT1H
BEGIN:VTIMEZONE
TZID:Europe/Paris
BEGIN:DAYLIGHT
TZOFFSETFROM:+0100
TZOFFSETTO:+0200
TZNAME:CEST
DTSTART:20240331T010000
END:DAYLIGHT
BEGIN:STANDARD
TZOFFSETFROM:+0200
TZOFFSETTO:+0100
TZNAME:CET
DTSTART:20241027T010000
END:STANDARD
BEGIN:DAYLIGHT
TZOFFSETFROM:+0100
TZOFFSETTO:+0200
TZNAME:CEST
DTSTART:20250330T010000
END:DAYLIGHT
BEGIN:STANDARD
TZOFFSETFROM:+0200
TZOFFSETTO:+0100
TZNAME:CET
DTSTART:20251026T010000
END:STANDARD
BEGIN:DAYLIGHT
TZOFFSETFROM:+0100
TZOFFSETTO:+0200
TZNAME:CEST
DTSTART:20260329T010000
END:DAYLIGHT
BEGIN:STANDARD
TZOFFSETFROM:+0200
TZOFFSETTO:+0100
TZNAME:CET
DTSTART:20261025T010000
END:STANDARD
END:VTIMEZONE
BEGIN:VEVENT
DTSTART;VALUE=DATE:20251205
DTEND;VALUE=DATE:20251206
DTSTAMP:20260419T174216
CREATED:20250821T082412Z
LAST-MODIFIED:20250821T082412Z
UID:19561-1764892800-1764979199@jibaya.tn
SUMMARY:Dernier délai de dépôt de la déclaration des revenus réalisés par les salariés et les bénéficiaires des pensions ou de rentes viagères d’origines tunisienne ou étrangère
DESCRIPTION:
URL:https://jibaya.tn/event/dernier-delai-de-depot-de-la-declaration-des-revenus-realises-par-les-salaries-et-les-beneficiaires-des-pensions-ou-de-rentes-viageres-dorigines-tunisienne-ou-etrangere-2/
END:VEVENT
BEGIN:VEVENT
DTSTART;VALUE=DATE:20251215
DTEND;VALUE=DATE:20251216
DTSTAMP:20260419T174216
CREATED:20250821T082551Z
LAST-MODIFIED:20250821T082551Z
UID:19563-1765756800-1765843199@jibaya.tn
SUMMARY:Dernier délai de dépôt de la déclaration mensuelle par les personnes physiques
DESCRIPTION:
URL:https://jibaya.tn/event/dernier-delai-de-depot-de-la-declaration-mensuelle-par-les-personnes-physiques-21/
END:VEVENT
BEGIN:VEVENT
DTSTART;VALUE=DATE:20251222
DTEND;VALUE=DATE:20251223
DTSTAMP:20260419T174216
CREATED:20250821T082654Z
LAST-MODIFIED:20250821T082654Z
UID:19567-1766361600-1766447999@jibaya.tn
SUMMARY:Dernier délai de dépôt de la déclaration mensuelle par les personnes morales adhérentes au système de télé déclaration et du télépaiement
DESCRIPTION:
URL:https://jibaya.tn/event/dernier-delai-de-depot-de-la-declaration-mensuelle-par-les-personnes-morales-adherentes-au-systeme-de-tele-declaration-et-du-telepaiement-22/
END:VEVENT
BEGIN:VEVENT
DTSTART;VALUE=DATE:20251225
DTEND;VALUE=DATE:20251226
DTSTAMP:20260419T174216
CREATED:20250821T082726Z
LAST-MODIFIED:20250821T082726Z
UID:19570-1766620800-1766707199@jibaya.tn
SUMMARY:Dernier délai de dépôt du troisième acompte provisionnel pour les personnes physiques
DESCRIPTION:
URL:https://jibaya.tn/event/dernier-delai-de-depot-du-troisieme-acompte-provisionnel-pour-les-personnes-physiques-2/
END:VEVENT
BEGIN:VEVENT
DTSTART;VALUE=DATE:20251229
DTEND;VALUE=DATE:20251230
DTSTAMP:20260419T174216
CREATED:20250821T082818Z
LAST-MODIFIED:20250821T082818Z
UID:19572-1766966400-1767052799@jibaya.tn
SUMMARY:Dernier délai de dépôt du troisième acompte provisionnel pour les personnes morales
DESCRIPTION:
URL:https://jibaya.tn/event/dernier-delai-de-depot-du-troisieme-acompte-provisionnel-pour-les-personnes-morales-2/
END:VEVENT
BEGIN:VEVENT
DTSTART;VALUE=DATE:20251229
DTEND;VALUE=DATE:20251230
DTSTAMP:20260419T174216
CREATED:20250821T103924Z
LAST-MODIFIED:20250821T103924Z
UID:19582-1766966400-1767052799@jibaya.tn
SUMMARY:Dernier délai de dépôt de la déclaration mensuelle par les personnes morales autres que celles adhérentes au système de télé déclaration et du télépaiement
DESCRIPTION:
URL:https://jibaya.tn/event/dernier-delai-de-depot-de-la-declaration-mensuelle-par-les-personnes-morales-autres-que-celles-adherentes-au-systeme-de-tele-declaration-et-du-telepaiement-21/
END:VEVENT
END:VCALENDAR