BEGIN:VCALENDAR
VERSION:2.0
PRODID:-//JIBAYA - ECPv6.15.16//NONSGML v1.0//EN
CALSCALE:GREGORIAN
METHOD:PUBLISH
X-ORIGINAL-URL:https://jibaya.tn
X-WR-CALDESC:Évènements pour JIBAYA
REFRESH-INTERVAL;VALUE=DURATION:PT1H
X-Robots-Tag:noindex
X-PUBLISHED-TTL:PT1H
BEGIN:VTIMEZONE
TZID:Europe/Paris
BEGIN:DAYLIGHT
TZOFFSETFROM:+0100
TZOFFSETTO:+0200
TZNAME:CEST
DTSTART:20250330T010000
END:DAYLIGHT
BEGIN:STANDARD
TZOFFSETFROM:+0200
TZOFFSETTO:+0100
TZNAME:CET
DTSTART:20251026T010000
END:STANDARD
BEGIN:DAYLIGHT
TZOFFSETFROM:+0100
TZOFFSETTO:+0200
TZNAME:CEST
DTSTART:20260329T010000
END:DAYLIGHT
BEGIN:STANDARD
TZOFFSETFROM:+0200
TZOFFSETTO:+0100
TZNAME:CET
DTSTART:20261025T010000
END:STANDARD
BEGIN:DAYLIGHT
TZOFFSETFROM:+0100
TZOFFSETTO:+0200
TZNAME:CEST
DTSTART:20270328T010000
END:DAYLIGHT
BEGIN:STANDARD
TZOFFSETFROM:+0200
TZOFFSETTO:+0100
TZNAME:CET
DTSTART:20271031T010000
END:STANDARD
END:VTIMEZONE
BEGIN:VEVENT
DTSTART;VALUE=DATE:20260115
DTEND;VALUE=DATE:20260116
DTSTAMP:20260419T143046
CREATED:20260217T131839Z
LAST-MODIFIED:20260217T132809Z
UID:22333-1768435200-1768521599@jibaya.tn
SUMMARY:Dernier délai du dépôt de la déclaration mensuelle par les personnes physiques
DESCRIPTION:
URL:https://jibaya.tn/event/dernier-delai-du-depot-de-la-declaration-mensuelle-par-les-personnes-physiques/
END:VEVENT
BEGIN:VEVENT
DTSTART;VALUE=DATE:20260120
DTEND;VALUE=DATE:20260121
DTSTAMP:20260419T143046
CREATED:20260217T132231Z
LAST-MODIFIED:20260217T132922Z
UID:22339-1768867200-1768953599@jibaya.tn
SUMMARY:Dernier délai de dépôt de la déclaration mensuelle par les personnes morales adhérentes au système de la télédéclaration et paiement de la taxe à distance
DESCRIPTION:
URL:https://jibaya.tn/event/dernier-delai-de-depot-de-la-declaration-mensuelle-par-les-personnes-morales-adherentes-au-systeme-de-la-teledeclaration-et-paiement-de-la-taxe-a-distance/
END:VEVENT
BEGIN:VEVENT
DTSTART;VALUE=DATE:20260128
DTEND;VALUE=DATE:20260129
DTSTAMP:20260419T143046
CREATED:20260217T133213Z
LAST-MODIFIED:20260217T135446Z
UID:22343-1769558400-1769644799@jibaya.tn
SUMMARY:Dernier délai de dépôt de la déclaration mensuelle par les personnes morales autres que celles adhérentes au système de la télédéclaration et paiement de la taxe à distance
DESCRIPTION:
URL:https://jibaya.tn/event/dernier-delai-du-depot-de-la-declaration-mensuelle-par-les-personnes-morales/
END:VEVENT
END:VCALENDAR