BEGIN:VCALENDAR
VERSION:2.0
PRODID:-//JIBAYA - ECPv6.15.16//NONSGML v1.0//EN
CALSCALE:GREGORIAN
METHOD:PUBLISH
X-WR-CALNAME:JIBAYA
X-ORIGINAL-URL:https://jibaya.tn
X-WR-CALDESC:Évènements pour JIBAYA
REFRESH-INTERVAL;VALUE=DURATION:PT1H
X-Robots-Tag:noindex
X-PUBLISHED-TTL:PT1H
BEGIN:VTIMEZONE
TZID:Europe/Paris
BEGIN:DAYLIGHT
TZOFFSETFROM:+0100
TZOFFSETTO:+0200
TZNAME:CEST
DTSTART:20250330T010000
END:DAYLIGHT
BEGIN:STANDARD
TZOFFSETFROM:+0200
TZOFFSETTO:+0100
TZNAME:CET
DTSTART:20251026T010000
END:STANDARD
BEGIN:DAYLIGHT
TZOFFSETFROM:+0100
TZOFFSETTO:+0200
TZNAME:CEST
DTSTART:20260329T010000
END:DAYLIGHT
BEGIN:STANDARD
TZOFFSETFROM:+0200
TZOFFSETTO:+0100
TZNAME:CET
DTSTART:20261025T010000
END:STANDARD
BEGIN:DAYLIGHT
TZOFFSETFROM:+0100
TZOFFSETTO:+0200
TZNAME:CEST
DTSTART:20270328T010000
END:DAYLIGHT
BEGIN:STANDARD
TZOFFSETFROM:+0200
TZOFFSETTO:+0100
TZNAME:CET
DTSTART:20271031T010000
END:STANDARD
END:VTIMEZONE
BEGIN:VEVENT
DTSTART;VALUE=DATE:20260615
DTEND;VALUE=DATE:20260616
DTSTAMP:20260419T145026
CREATED:20260219T094852Z
LAST-MODIFIED:20260219T094852Z
UID:22487-1781481600-1781567999@jibaya.tn
SUMMARY:Dernier délai du dépôt de la déclaration mensuelle par les personnes physiques.
DESCRIPTION:
URL:https://jibaya.tn/event/dernier-delai-du-depot-de-la-declaration-mensuelle-par-les-personnes-physiques-6/
END:VEVENT
BEGIN:VEVENT
DTSTART;VALUE=DATE:20260622
DTEND;VALUE=DATE:20260623
DTSTAMP:20260419T145026
CREATED:20260219T094934Z
LAST-MODIFIED:20260219T094934Z
UID:22495-1782086400-1782172799@jibaya.tn
SUMMARY:Dernier délai de dépôt de la déclaration mensuelle par les personnes morales adhérentes au système de la télédéclaration et paiement de la taxe à distance
DESCRIPTION:
URL:https://jibaya.tn/event/dernier-delai-de-depot-de-la-declaration-mensuelle-par-les-personnes-morales-adherentes-au-systeme-de-la-teledeclaration-et-paiement-de-la-taxe-a-distance-6/
END:VEVENT
BEGIN:VEVENT
DTSTART;VALUE=DATE:20260625
DTEND;VALUE=DATE:20260626
DTSTAMP:20260419T145026
CREATED:20260219T095007Z
LAST-MODIFIED:20260219T095014Z
UID:22501-1782345600-1782431999@jibaya.tn
SUMMARY:Dernier délai du dépôt de la déclaration du 1er acompte provisionnel pour les personnes physiques à l’exception de ceux ayant une activité artisanale.
DESCRIPTION:
URL:https://jibaya.tn/event/dernier-delai-du-depot-de-la-declaration-du-1er-acompte-provisionnel-pour-les-personnes-physiques-a-lexception-de-ceux-ayant-une-activite-artisanale/
END:VEVENT
BEGIN:VEVENT
DTSTART;VALUE=DATE:20260625
DTEND;VALUE=DATE:20260626
DTSTAMP:20260419T145026
CREATED:20260219T095119Z
LAST-MODIFIED:20260219T095119Z
UID:22504-1782345600-1782431999@jibaya.tn
SUMMARY:Dernier délai du dépôt de la déclaration définitive de l’impôt sur les sociétés
DESCRIPTION:
URL:https://jibaya.tn/event/dernier-delai-du-depot-de-la-declaration-definitive-de-limpot-sur-les-societes/
END:VEVENT
BEGIN:VEVENT
DTSTART;VALUE=DATE:20260629
DTEND;VALUE=DATE:20260630
DTSTAMP:20260419T145026
CREATED:20260219T095208Z
LAST-MODIFIED:20260219T113506Z
UID:22510-1782691200-1782777599@jibaya.tn
SUMMARY:Dernier délai du dépôt de la déclaration du 1er acompte provisionnel pour les personnes morales.
DESCRIPTION:
URL:https://jibaya.tn/event/dernier-delai-du-depot-de-la-declaration-mensuelle-par-les-personnes-morales-3/
END:VEVENT
BEGIN:VEVENT
DTSTART;VALUE=DATE:20260629
DTEND;VALUE=DATE:20260630
DTSTAMP:20260419T145026
CREATED:20260219T095240Z
LAST-MODIFIED:20260219T095240Z
UID:22516-1782691200-1782777599@jibaya.tn
SUMMARY:Dernier délai de dépôt de la déclaration mensuelle par les personnes morales autres que celles adhérentes au système de la télédéclaration et paiement de la taxe à distance
DESCRIPTION:
URL:https://jibaya.tn/event/dernier-delai-de-depot-de-la-declaration-mensuelle-par-les-personnes-morales-autres-que-celles-adherentes-au-systeme-de-la-teledeclaration-et-paiement-de-la-taxe-a-distance-3/
END:VEVENT
BEGIN:VEVENT
DTSTART;VALUE=DATE:20260630
DTEND;VALUE=DATE:20260701
DTSTAMP:20260419T145026
CREATED:20260219T114041Z
LAST-MODIFIED:20260219T114041Z
UID:22526-1782777600-1782863999@jibaya.tn
SUMMARY:Dernier délai de dépôt de la déclaration de l'impôt sur la fortune
DESCRIPTION:
URL:https://jibaya.tn/event/dernier-delai-de-depot-de-la-declaration-de-limpot-sur-la-fortune/
END:VEVENT
END:VCALENDAR